BEGIN:VCALENDAR
VERSION:2.0
PRODID:-//Goizale - ECPv6.15.20//NONSGML v1.0//EN
CALSCALE:GREGORIAN
METHOD:PUBLISH
X-WR-CALNAME:Goizale
X-ORIGINAL-URL:https://goizale.com/eu
X-WR-CALDESC:Events for Goizale
REFRESH-INTERVAL;VALUE=DURATION:PT1H
X-Robots-Tag:noindex
X-PUBLISHED-TTL:PT1H
BEGIN:VTIMEZONE
TZID:UTC
BEGIN:STANDARD
TZOFFSETFROM:+0000
TZOFFSETTO:+0000
TZNAME:UTC
DTSTART:20160101T000000
END:STANDARD
END:VTIMEZONE
BEGIN:VEVENT
DTSTART;VALUE=DATE:20170625
DTEND;VALUE=DATE:20170626
DTSTAMP:20260424T124039
CREATED:20211130T132622Z
LAST-MODIFIED:20211130T132622Z
UID:206-1498348800-1498435199@goizale.com
SUMMARY:Valdezcaray
DESCRIPTION:Precio: Socios: 15 euros / No socios: 18 euros.\nLugar de salida: Estación de autobuses de Gernika-Lumo.\nHora de salida: A las 07:00 de la mañana.\nRecorrido: Urdanta – Valdezcaray – Cuña – Cabeza Parda – San Lorenzo – Valdezcaray (15 km; aproximadamente 6 horas).\nForma de pago: Tanto la inscripción como el pago se realizará en el club.
URL:https://goizale.com/eu/event/valdezcaray/
LOCATION:Gernika-Lumo\, Gernika-Lumo\, Bizkaia\, 48300\, España
CATEGORIES:Salidas 2017
ORGANIZER;CN="Goizale MT":MAILTO:goizale@goizale.com
END:VEVENT
END:VCALENDAR